BEGIN:VCALENDAR
VERSION:2.0
PRODID:-//Creative Generation - ECPv6.15.7//NONSGML v1.0//EN
CALSCALE:GREGORIAN
METHOD:PUBLISH
X-WR-CALNAME:Creative Generation
X-ORIGINAL-URL:https://creativegeneration.art
X-WR-CALDESC:Events for Creative Generation
REFRESH-INTERVAL;VALUE=DURATION:PT1H
X-Robots-Tag:noindex
X-PUBLISHED-TTL:PT1H
BEGIN:VTIMEZONE
TZID:UTC
BEGIN:STANDARD
TZOFFSETFROM:+0000
TZOFFSETTO:+0000
TZNAME:UTC
DTSTART:20220101T000000
END:STANDARD
END:VTIMEZONE
BEGIN:VEVENT
DTSTART;TZID=UTC:20230207T183000
DTEND;TZID=UTC:20230207T193000
DTSTAMP:20260423T133253
CREATED:20230307T114924Z
LAST-MODIFIED:20230504T114348Z
UID:1500-1675794600-1675798200@creativegeneration.art
SUMMARY:ព្រៃស Prey Sar
DESCRIPTION:Film and performance by Shanghai Chang\n6:30pm Tuesday\, 7 February 2023\nJava Creative Café Toul Tom Poung\nWARNING: contains graphic scenes and may not be appropriate for sensitive viewers \nPrey Sar is an experimental film and live performance by Shanghai Chang presented by the Creative Generation Performance Series. Shanghai’s work explores themes of sexuality\, self-harm\, violence and drug use through carefully constructed scenes. Influenced by Italian horror cinema\, he skillfully uses color to transform a moment of brutality into one of beauty. As viewers we are equally attracted and repulsed by what we see. \nShanghai is a multi-disciplinary artist and is interested in producing work that pushes boundaries and is sometimes confrontational. He feels that it is unnatural if art doesn’t explore difficult topics that for him are a part of his everyday reality. \nFor this event Shanghai has produced a new sound piece and live performance that will follow the film screening. The audience is invited to stay for a q&a with the artist at the end of the program. \n_____ \nSHANGHAI CHANG (b. 1996\, Phnom Penh Cambodia) has a Bachelor of Arts in Fashion Design and Photography. He is a co-founder of the HOMELESS Artist Collective. His art practice includes Conceptual Fashion\, Visual art\, Installation\, Photography\, Film and Video Art.
URL:https://creativegeneration.art/event/%e1%9e%96%e1%9f%92%e1%9e%9a%e1%9f%83%e1%9e%9f-prey-sar/
LOCATION:53 Street 468\, Java Creative Cafe Toul Tom Poung\, Phnom Penh\, Phnom Penh\, Cambodia
CATEGORIES:Arts,Talks
ATTACH;FMTTYPE=image/jpeg:https://creativegeneration.art/wp-content/uploads/2023/02/14-LR.jpg
END:VEVENT
END:VCALENDAR