BEGIN:VCALENDAR
VERSION:2.0
PRODID:-//Creative Generation - ECPv6.15.7//NONSGML v1.0//EN
CALSCALE:GREGORIAN
METHOD:PUBLISH
X-WR-CALNAME:Creative Generation
X-ORIGINAL-URL:https://creativegeneration.art
X-WR-CALDESC:Events for Creative Generation
REFRESH-INTERVAL;VALUE=DURATION:PT1H
X-Robots-Tag:noindex
X-PUBLISHED-TTL:PT1H
BEGIN:VTIMEZONE
TZID:UTC
BEGIN:STANDARD
TZOFFSETFROM:+0000
TZOFFSETTO:+0000
TZNAME:UTC
DTSTART:20210101T000000
END:STANDARD
END:VTIMEZONE
BEGIN:VEVENT
DTSTART;TZID=UTC:20221001T130000
DTEND;TZID=UTC:20221001T150000
DTSTAMP:20260423T185300
CREATED:20230418T101234Z
LAST-MODIFIED:20230504T114604Z
UID:1664-1664629200-1664636400@creativegeneration.art
SUMMARY:12-8\, 1pm 1 October 2022
DESCRIPTION:A play written by Sok Samithi\nDirected by Sok Samithi and Marika Els\nProduced by Phnom Penh Players\nThe project is presented as part of the Creative Generation Performance Series\nSponsor venue: Java Creative Café Toul Tom Poung \nShow dates:\n30 September 2022: 7pm\n1 October 2022: 1pm & 7pm\n7 October 2022: 7pm\n8 October 2022: 1pm & 7pm \n“From midnight to morning\, as the city lights shine\, a small Phnom Penh convenience store becomes an oasis of possibility.” \nSynopsis:\n’12-8′ is an original one-act play that deals with themes of transition and change\, desire and uncertainty\, as seen through the lens of two young\, once-intimate adults who meet again working in a convenience store. Written in an episodic format\, scenes change from intimate and tender exchanges to puerile and humorous. \nPhoto by Monja McKay
URL:https://creativegeneration.art/event/12-8-1pm-1-october-2022/
LOCATION:53 Street 468\, Java Creative Cafe Toul Tom Poung\, Phnom Penh\, Phnom Penh\, Cambodia
CATEGORIES:Arts
ATTACH;FMTTYPE=image/jpeg:https://creativegeneration.art/wp-content/uploads/2022/10/cropped-20220927_190823-1200px.jpg
END:VEVENT
BEGIN:VEVENT
DTSTART;TZID=UTC:20221001T190000
DTEND;TZID=UTC:20221001T210000
DTSTAMP:20260423T185300
CREATED:20230418T101525Z
LAST-MODIFIED:20230504T114559Z
UID:1666-1664650800-1664658000@creativegeneration.art
SUMMARY:12-8\, 7pm 1 October 2022
DESCRIPTION:A play written by Sok Samithi\nDirected by Sok Samithi and Marika Els\nProduced by Phnom Penh Players\nThe project is presented as part of the Creative Generation Performance Series\nSponsor venue: Java Creative Café Toul Tom Poung \nShow dates:\n30 September 2022: 7pm\n1 October 2022: 1pm & 7pm\n7 October 2022: 7pm\n8 October 2022: 1pm & 7pm \n“From midnight to morning\, as the city lights shine\, a small Phnom Penh convenience store becomes an oasis of possibility.” \nSynopsis:\n’12-8′ is an original one-act play that deals with themes of transition and change\, desire and uncertainty\, as seen through the lens of two young\, once-intimate adults who meet again working in a convenience store. Written in an episodic format\, scenes change from intimate and tender exchanges to puerile and humorous. \nPhoto by Monja McKay
URL:https://creativegeneration.art/event/12-8-7pm-1-october-2022/
LOCATION:53 Street 468\, Java Creative Cafe Toul Tom Poung\, Phnom Penh\, Phnom Penh\, Cambodia
CATEGORIES:Arts
ATTACH;FMTTYPE=image/jpeg:https://creativegeneration.art/wp-content/uploads/2022/10/cropped-20220927_190823-1200px.jpg
END:VEVENT
BEGIN:VEVENT
DTSTART;TZID=UTC:20221007T190000
DTEND;TZID=UTC:20221007T210000
DTSTAMP:20260423T185300
CREATED:20230418T095958Z
LAST-MODIFIED:20230504T114553Z
UID:1659-1665169200-1665176400@creativegeneration.art
SUMMARY:12-8\, 7pm 7 October 2022
DESCRIPTION:A play written by Sok Samithi\nDirected by Sok Samithi and Marika Els\nProduced by Phnom Penh Players\nThe project is presented as part of the Creative Generation Performance Series\nSponsor venue: Java Creative Café Toul Tom Poung \nShow dates:\n30 September 2022: 7pm\n1 October 2022: 1pm & 7pm\n7 October 2022: 7pm\n8 October 2022: 1pm & 7pm \n“From midnight to morning\, as the city lights shine\, a small Phnom Penh convenience store becomes an oasis of possibility.” \nSynopsis:\n’12-8′ is an original one-act play that deals with themes of transition and change\, desire and uncertainty\, as seen through the lens of two young\, once-intimate adults who meet again working in a convenience store. Written in an episodic format\, scenes change from intimate and tender exchanges to puerile and humorous. \nPhoto by Monja McKay
URL:https://creativegeneration.art/event/12-8-2/
LOCATION:53 Street 468\, Java Creative Cafe Toul Tom Poung\, Phnom Penh\, Phnom Penh\, Cambodia
CATEGORIES:Arts
ATTACH;FMTTYPE=image/jpeg:https://creativegeneration.art/wp-content/uploads/2022/10/cropped-20220927_190823-1200px.jpg
END:VEVENT
BEGIN:VEVENT
DTSTART;TZID=UTC:20221008T130000
DTEND;TZID=UTC:20221008T150000
DTSTAMP:20260423T185300
CREATED:20230418T095627Z
LAST-MODIFIED:20230504T114549Z
UID:1657-1665234000-1665241200@creativegeneration.art
SUMMARY:12-8\, 1pm 8 October 2022
DESCRIPTION:A play written by Sok Samithi\nDirected by Sok Samithi and Marika Els\nProduced by Phnom Penh Players\nThe project is presented as part of the Creative Generation Performance Series\nSponsor venue: Java Creative Café Toul Tom Poung \nShow dates:\n30 September 2022: 7pm\n1 October 2022: 1pm & 7pm\n7 October 2022: 7pm\n8 October 2022: 1pm & 7pm \n“From midnight to morning\, as the city lights shine\, a small Phnom Penh convenience store becomes an oasis of possibility.” \nSynopsis:\n’12-8′ is an original one-act play that deals with themes of transition and change\, desire and uncertainty\, as seen through the lens of two young\, once-intimate adults who meet again working in a convenience store. Written in an episodic format\, scenes change from intimate and tender exchanges to puerile and humorous. \nPhoto by Monja McKay
URL:https://creativegeneration.art/event/12-8/
LOCATION:53 Street 468\, Java Creative Cafe Toul Tom Poung\, Phnom Penh\, Phnom Penh\, Cambodia
CATEGORIES:Arts
ATTACH;FMTTYPE=image/jpeg:https://creativegeneration.art/wp-content/uploads/2022/10/cropped-20220927_190823-1200px.jpg
END:VEVENT
BEGIN:VEVENT
DTSTART;TZID=UTC:20221008T190000
DTEND;TZID=UTC:20221008T210000
DTSTAMP:20260423T185300
CREATED:20230418T102239Z
LAST-MODIFIED:20230504T114544Z
UID:1672-1665255600-1665262800@creativegeneration.art
SUMMARY:12-8\, 7pm 8 October 2022
DESCRIPTION:A play written by Sok Samithi\nDirected by Sok Samithi and Marika Els\nProduced by Phnom Penh Players\nThe project is presented as part of the Creative Generation Performance Series\nSponsor venue: Java Creative Café Toul Tom Poung \nShow dates:\n30 September 2022: 7pm\n1 October 2022: 1pm & 7pm\n7 October 2022: 7pm\n8 October 2022: 1pm & 7pm \n“From midnight to morning\, as the city lights shine\, a small Phnom Penh convenience store becomes an oasis of possibility.” \nSynopsis:\n’12-8′ is an original one-act play that deals with themes of transition and change\, desire and uncertainty\, as seen through the lens of two young\, once-intimate adults who meet again working in a convenience store. Written in an episodic format\, scenes change from intimate and tender exchanges to puerile and humorous. \nPhoto by Monja McKay
URL:https://creativegeneration.art/event/12-8-7pm-8-october-2022/
LOCATION:53 Street 468\, Java Creative Cafe Toul Tom Poung\, Phnom Penh\, Phnom Penh\, Cambodia
CATEGORIES:Arts
ATTACH;FMTTYPE=image/jpeg:https://creativegeneration.art/wp-content/uploads/2022/10/cropped-20220927_190823-1200px.jpg
END:VEVENT
BEGIN:VEVENT
DTSTART;TZID=UTC:20221021T180000
DTEND;TZID=UTC:20221021T200000
DTSTAMP:20260423T185300
CREATED:20230418T094358Z
LAST-MODIFIED:20230504T114539Z
UID:1655-1666375200-1666382400@creativegeneration.art
SUMMARY:Director Talk: Sok Samithi & Marika Els
DESCRIPTION:6pm Friday\, 21 October 2022\nJava Creative Café Toul Tom Poung\nFree entrance\n(In English) \n  \nJoin us for a Director’s Talk with Sok Samithi and Marika Els\, co-directors of 12-8\, the smashing debut of writer/director Samithi! \nSamithi was invited to receive a small grant from the Creative Generation Performance Series to produce his play. He very quickly pulled together a sharp team of producers from Phnom Penh Players which is how he met Marika. They hit it off and decided to work together as collaborators. \nBoth Samithi and Marika will talk about their personal artistic journeys and their collaboration together on 12-8\, their approach to making theater\, its challenges and triumphs. The audience will be invited to ask questions during the Q&A that follows. \nPhoto by Monja McKay
URL:https://creativegeneration.art/event/director-talk-sok-samithi-marika-els/
LOCATION:53 Street 468\, Java Creative Cafe Toul Tom Poung\, Phnom Penh\, Phnom Penh\, Cambodia
CATEGORIES:Arts,Talks
ATTACH;FMTTYPE=image/jpeg:https://creativegeneration.art/wp-content/uploads/2022/10/307535314_670943467577879_6501769678933396401_n.jpg
END:VEVENT
BEGIN:VEVENT
DTSTART;TZID=UTC:20221030T160000
DTEND;TZID=UTC:20221030T173000
DTSTAMP:20260423T185300
CREATED:20230418T092318Z
LAST-MODIFIED:20230504T114533Z
UID:1651-1667145600-1667151000@creativegeneration.art
SUMMARY:By a Thread
DESCRIPTION:A collaboration between Jean-Baptiste PHOU & SAO Sreymao\nCurated by Dana LANGLOIS \nExhibition opening and film screening 4pm Sunday\, 30 October 2022\nDaily film screenings 6pm 31 October – 27 November 2022\nClosing performance 6:30pm Sunday\, 27 November 2022\nJava Creative Cafe Toul Tom Poung\n53 Street 468\, Phnom Penh \n  \nBy a Thread is an exhibition of film\, photography\, installation and performance by artists Jean-Baptiste PHOU & SAO Sreymao that empathetically explores communication and grief. \nThe whole exhibition revolves around the film\, My Mother’s Tongue which tells the story of a mother and son who don’t speak the same language\, until something unlocks when she suddenly falls very ill. The emotional journey unfolds through a series of vignettes that draw the viewer deeper into the inner world of a son seeking understanding and to be understood. The work is very personal and at the same time part of the universal human experience. \nThe images from the film combining photography and digital drawing will be printed and form the central work of the exhibition. The audience will be invited to participate in communal grieving through a sculpture created by SAO Sreymao. They will be able to write their own messages and hang them to the installation. On the final day of the exhibition\, viewers may join the artists while they perform a ritual cleansing to bring relief and shared comfort. \nThis exhibition is especially poignant at a time when the world is entering a post-covid phase in which many of us are left with our loss and memories. The body of work is emotionally intelligent\, poetic and has been created with great sensitivity. Through a series of images and quiet actions\, it creates space for connection and understanding\, leaving us with the feeling that we are not alone. \nThe program will start with an opening event\, run for one month with daily film screenings and conclude with a live performance. Additionally\, Jean-Baptiste PHOU has created a participatory digital installation that allows people from around the world to share their own stories. It can be accessed at echoesfromthestars.com \n_____ \nBy a Thread is presented as part of the Creative Generation Performance series and Photo Phnom Penh\, with the support of Debra Fram + Eric Schwartz and l’Institut Français du Cambodge.
URL:https://creativegeneration.art/event/by-a-thread/
LOCATION:53 Street 468\, Java Creative Cafe Toul Tom Poung\, Phnom Penh\, Phnom Penh\, Cambodia
CATEGORIES:Arts,Exhibition
ATTACH;FMTTYPE=image/jpeg:https://creativegeneration.art/wp-content/uploads/2022/10/cropped-by-a-thread-image-for-communications-1200px.jpg
END:VEVENT
END:VCALENDAR