BEGIN:VCALENDAR
VERSION:2.0
PRODID:-//Creative Generation - ECPv6.15.7//NONSGML v1.0//EN
CALSCALE:GREGORIAN
METHOD:PUBLISH
X-WR-CALNAME:Creative Generation
X-ORIGINAL-URL:https://creativegeneration.art
X-WR-CALDESC:Events for Creative Generation
REFRESH-INTERVAL;VALUE=DURATION:PT1H
X-Robots-Tag:noindex
X-PUBLISHED-TTL:PT1H
BEGIN:VTIMEZONE
TZID:UTC
BEGIN:STANDARD
TZOFFSETFROM:+0000
TZOFFSETTO:+0000
TZNAME:UTC
DTSTART:20190101T000000
END:STANDARD
END:VTIMEZONE
BEGIN:VEVENT
DTSTART;TZID=UTC:20200306T183000
DTEND;TZID=UTC:20200306T203000
DTSTAMP:20260425T160755
CREATED:20230418T111139Z
LAST-MODIFIED:20230504T114636Z
UID:1683-1583519400-1583526600@creativegeneration.art
SUMMARY:Award Celebration Creative Generation 3
DESCRIPTION:On 6 March 2020 we will celebrate the announcement of the five awardees for CREATIVE GENERATION 3 at FUTURES Factory. \nOver the last year young Cambodian artists\, between the age of 18 and 30\, were invited to apply to the CREATIVE GENERATION 3 award. Each application was individually scored by seven judges\, all of whom work in the arts and are familiar with the Cambodian art scene. The judges were asked to consider each application according to their portfolio submission\, exhibition proposal and overall potential of the artist. The five highest scoring applications were selected to receive the CREATIVE GENERATION award. We are very excited to announce the five winning artists (in alphabetical order)! \n• Mech Choulay\n• Kong Siden\n• Ry Savroun\n• Song Seakleng\n• Vong Chandarey \nAs CREATIVE GENERATION awardees each artist will receive a cash prize and trophy\, participate in a three month mentorship program and finally\, present their work in a solo exhibition. \nCREATIVE GENERATION is possible thanks to the generous support of: Karen McLeod Adair & Anthony Adair\, Australian collectors of contemporary Cambodian art and supporters of young artists. With additional support from Debra Fram. \nIt is powered by Java Creative Café in partnership with FUTURES Factory and with the support of many volunteers. \nTogether\, the sponsors\, partners\, volunteers and CREATIVE GENERATION are committed to building up a new generation of young Cambodian artists.
URL:https://creativegeneration.art/event/award-celebration-creative-generation-3/
LOCATION:215 Street 13\, F3 (Friends Futures Factory)\, Phnom Penh\, Phnom Penh\, Cambodia
CATEGORIES:Arts,Celebration
ATTACH;FMTTYPE=image/jpeg:https://creativegeneration.art/wp-content/uploads/2020/04/IMG_0596.jpg
END:VEVENT
END:VCALENDAR