BEGIN:VCALENDAR
VERSION:2.0
PRODID:-//Creative Generation - ECPv6.15.7//NONSGML v1.0//EN
CALSCALE:GREGORIAN
METHOD:PUBLISH
X-ORIGINAL-URL:https://creativegeneration.art
X-WR-CALDESC:Events for Creative Generation
REFRESH-INTERVAL;VALUE=DURATION:PT1H
X-Robots-Tag:noindex
X-PUBLISHED-TTL:PT1H
BEGIN:VTIMEZONE
TZID:UTC
BEGIN:STANDARD
TZOFFSETFROM:+0000
TZOFFSETTO:+0000
TZNAME:UTC
DTSTART:20240101T000000
END:STANDARD
END:VTIMEZONE
BEGIN:VEVENT
DTSTART;TZID=UTC:20250531T170000
DTEND;TZID=UTC:20250531T193000
DTSTAMP:20260423T214353
CREATED:20250529T111255Z
LAST-MODIFIED:20250529T112232Z
UID:2403-1748710800-1748719800@creativegeneration.art
SUMMARY:Indigenous Youth Take the Stage: A Celebration of Indigenous Culture in Cambodia
DESCRIPTION:Join us for a one-of-a-kind event highlighting the rich cultural expressions of Cambodia’s Indigenous youth! This special evening features live music\, traditional dance\, storytelling\, and an exhibition — all led by Indigenous youth from across the country. \n\n\n\nOrganized in collaboration with the Cambodian Indigenous Youth Association\, the Cambodian Indigenous Women’s Association\, the Cambodian Indigenous Peoples Organization\, and Creative Generation\, the event aims to strengthen cultural understanding\, highlight the voices and creativity of Indigenous youth\, and foster meaningful connections between Indigenous and non-Indigenous communities. Through shared cultural experiences\, we hope to build greater awareness\, respect\, and solidarity.
URL:https://creativegeneration.art/event/indigenous-youth-take-the-stage-a-celebration-of-indigenous-culture-in-cambodia/
LOCATION:Creative Generation theater (upstairs at Java Creative Cafe TTP)\, 53 Street 468\, Phnom Penh
CATEGORIES:Exhibition,Performance
ATTACH;FMTTYPE=image/jpeg:https://creativegeneration.art/wp-content/uploads/2025/05/499543663_1130515925786604_6086883813961821547_n.jpg
END:VEVENT
BEGIN:VEVENT
DTSTART;TZID=UTC:20250601T140000
DTEND;TZID=UTC:20250601T160000
DTSTAMP:20260423T214353
CREATED:20250529T112048Z
LAST-MODIFIED:20250529T112051Z
UID:2406-1748786400-1748793600@creativegeneration.art
SUMMARY:Screening of No Other Land and Q&A
DESCRIPTION:Due to overwhelming demand\, Cambodia Palestine Solidarity community presents a re-screening of the Oscar-winning documentary No Other Land\, directed by Basel Adra\, Hamdan Ballal\, Yuval Abraham\, and Rachel Szor. The event will begin with a brief presentation providing context for the documentary and end with a Q&A session with members of the Cambodia Palestine Solidarity group. \n\n\n\nAbout the Film:Basel Adra\, a young Palestinian activist from Masafer Yatta\, has been fighting his community’s mass expulsion by the Israeli occupation since childhood. Basel documents the gradual erasure of Masafer Yatta\, as soldiers destroy the homes of families – the largest single act of forced transfer ever carried out in the occupied West Bank. He crosses paths with Yuval\, an Israeli journalist who joins his struggle\, and for over half a decade they fight against the expulsion while growing closer. Their complex bond is haunted by the extreme inequality between them: Basel\, living under a brutal military occupation\, and Yuval\, unrestricted and free. This film\, by a Palestinian-Israeli collective of four young activists\, was co-created during the darkest\, most terrifying times in the region\, as an act of creative resistance to Apartheid and a search for a path towards equality and justice.
URL:https://creativegeneration.art/event/screening-of-no-other-land-and-qa/
LOCATION:Creative Generation theater (upstairs at Java Creative Cafe TTP)\, 53 Street 468\, Phnom Penh
CATEGORIES:Film
ATTACH;FMTTYPE=image/jpeg:https://creativegeneration.art/wp-content/uploads/2025/05/1-June-2025.jpg
END:VEVENT
END:VCALENDAR