BEGIN:VCALENDAR
VERSION:2.0
PRODID:-//Creative Generation - ECPv6.15.7//NONSGML v1.0//EN
CALSCALE:GREGORIAN
METHOD:PUBLISH
X-ORIGINAL-URL:https://creativegeneration.art
X-WR-CALDESC:Events for Creative Generation
REFRESH-INTERVAL;VALUE=DURATION:PT1H
X-Robots-Tag:noindex
X-PUBLISHED-TTL:PT1H
BEGIN:VTIMEZONE
TZID:UTC
BEGIN:STANDARD
TZOFFSETFROM:+0000
TZOFFSETTO:+0000
TZNAME:UTC
DTSTART:20230101T000000
END:STANDARD
END:VTIMEZONE
BEGIN:VEVENT
DTSTART;TZID=UTC:20240706T093000
DTEND;TZID=UTC:20240706T113000
DTSTAMP:20260422T225713
CREATED:20240806T072524Z
LAST-MODIFIED:20240806T072525Z
UID:2108-1720258200-1720265400@creativegeneration.art
SUMMARY:Presentation and Site Visit
DESCRIPTION:Our Call for Applications for Connected Canopy with Cambodian Living Arts (CLA) is now open!https://creativegeneration.art/connected-canopy-call-for-applications/ \n\n\n\nIf you are interested to know more about the application and the new site\, we invite you to register for “Presentation and Site Visit” 9:30am-11:30am Saturday\, 6 July at Cambodian Living Arts. \n\n\n\nOPEN TO ARTISTS\, DESIGNERS AND ARCHITECTSEvent time/date: 9:30am-11:30am Saturday\, 6 July 2024Event registration: https://forms.gle/i35yihHqqtkVm2ik6Event location: https://maps.app.goo.gl/N88JK8mKwo9SyB7U9
URL:https://creativegeneration.art/event/presentation-and-site-visit/
LOCATION:Street 830\, Cambodian Living Arts\, Phnom Penh\, Cambodia
CATEGORIES:Design
ATTACH;FMTTYPE=image/png:https://creativegeneration.art/wp-content/uploads/2024/08/CONNECTED-CANOPY-presentation-and-site-visit-event-cover.png
END:VEVENT
BEGIN:VEVENT
DTSTART;TZID=UTC:20240720T140000
DTEND;TZID=UTC:20240720T170000
DTSTAMP:20260422T225713
CREATED:20240806T073313Z
LAST-MODIFIED:20240806T073314Z
UID:2113-1721484000-1721494800@creativegeneration.art
SUMMARY:Designing Community Engagement
DESCRIPTION:Designing Community EngagementPanel discussion with project mentors: Try Sokha Raksmey\, Sou Oudom and Elettra Melani2-5pm Saturday\, 20 July 2024Java Creative Café Toul Tom Poung \n\n\n\nFor everyone interested to submit an application to the Connected Canopy project\, we invite you to join the panel discussion with the three mentors on 20 July 2024. Each mentor brings expertise in architecture and will give advice on how to submit a successful application for the Connected Canopy project.For the event\, the mentors will give presentations on their work as well as advice on the application process. Which will be followed by a discussion\, during which participants can ask questions from both the mentors and the director of Creative Generation. \n\n\n\nMeet the Mentors:Sou Oudom\, ArchitectTry Sokha Raksmey\, Junior ArchitectElettra Melani\, Architect & Design Manager \n\n\n\n\n\nWe have limited space\, so registration is required\, thank you! Please register here: https://forms.gle/5tqFiMb9qTdBuqxp6 \n\n\n\n\n\nAgenda:2pm Participants arrive2:30pm Welcome and introduction3pm Presentations:Try Sokha Raksmey + Sou OudomElettra Melani4pm Refreshments + Break4:30pm Q&A with panelists5pm Event closes
URL:https://creativegeneration.art/event/designing-community-engagement/
LOCATION:53 Street 468\, Java Creative Cafe Toul Tom Poung\, Phnom Penh\, Phnom Penh\, Cambodia
CATEGORIES:Design,Workshop
ATTACH;FMTTYPE=image/png:https://creativegeneration.art/wp-content/uploads/2024/08/designing-community-engagement-event-cover.png
END:VEVENT
BEGIN:VEVENT
DTSTART;TZID=UTC:20240817T100000
DTEND;TZID=UTC:20240817T120000
DTSTAMP:20260422T225713
CREATED:20240806T074142Z
LAST-MODIFIED:20240806T074144Z
UID:2116-1723888800-1723896000@creativegeneration.art
SUMMARY:Connected Canopy Site Visit 2
DESCRIPTION:Connected Canopy Site Visit 210am-12pm Saturday\, 17 August 2024At Cambodian Living Artshttps://maps.app.goo.gl/N88JK8mKwo9SyB7U9Parking available at Aeon \n\n\n\nMeet Dana from Creative Generation and Manith from Cambodian Living Arts and ask questions about the site and the Connected Canopy project. We welcome visitors to explore the site\, make measurements\, take photos and anything else that will help you with your design proposal. \n\n\n\nRegistration NOT required\, just come by any time between 10am and 12pm. We look forward to meeting you and talking with you!
URL:https://creativegeneration.art/event/connected-canopy-site-visit-2/
LOCATION:Street 830\, Cambodian Living Arts\, Phnom Penh\, Cambodia
CATEGORIES:Design
ATTACH;FMTTYPE=image/png:https://creativegeneration.art/wp-content/uploads/2024/08/Site-Visit-2.png
END:VEVENT
BEGIN:VEVENT
DTSTART;TZID=UTC:20250426T140000
DTEND;TZID=UTC:20250426T160000
DTSTAMP:20260422T225713
CREATED:20250423T093020Z
LAST-MODIFIED:20250423T100128Z
UID:2334-1745676000-1745683200@creativegeneration.art
SUMMARY:Screening and Q&A: No Other Land
DESCRIPTION:A moving documentary about land\, resistance\, and belonging\, presented by the Cambodia Palestine Solidarity group. Followed by a community Q&A.
URL:https://creativegeneration.art/event/screening-and-qa-no-other-land/
LOCATION:Creative Generation theater (upstairs at Java Creative Cafe TTP)\, 53 Street 468\, Phnom Penh
CATEGORIES:Film
ATTACH;FMTTYPE=image/jpeg:https://creativegeneration.art/wp-content/uploads/2025/04/487394733_122188923902258734_3299356774217937111_n.jpg
END:VEVENT
BEGIN:VEVENT
DTSTART;TZID=UTC:20250426T140000
DTEND;TZID=UTC:20250426T170000
DTSTAMP:20260422T225713
CREATED:20250423T095554Z
LAST-MODIFIED:20250423T095556Z
UID:2352-1745676000-1745686800@creativegeneration.art
SUMMARY:Poetry Writing Workshop: REBIRTH
DESCRIPTION:Led by two Canadian English Literature teachers (and published poets!) from Red River Education\, this hands-on workshop will guide participants through the craft of poetry — learning the rules\, writing descriptively\, and building confidence in your creative voice. Materials included!
URL:https://creativegeneration.art/event/poetry-writing-workshop-rebirth/
LOCATION:Java Creative Cafe TTP meeting room upstairs\, 53 Street 468\, Phnom Penh\, Cambodia
CATEGORIES:Workshop
ATTACH;FMTTYPE=image/jpeg:https://creativegeneration.art/wp-content/uploads/2025/04/photo_2025-04-06_16-30-41.jpg
END:VEVENT
BEGIN:VEVENT
DTSTART;TZID=UTC:20250426T170000
DTEND;TZID=UTC:20250426T183000
DTSTAMP:20260422T225713
CREATED:20250423T094228Z
LAST-MODIFIED:20250423T100115Z
UID:2341-1745686800-1745692200@creativegeneration.art
SUMMARY:Poetry Reading: REBIRTH
DESCRIPTION:Organized by Red River Education\, this reading brings together poetic voices to reflect on growth\, transformation\, and the beauty of starting again.🎟️ Entry by donation ($2 minimum) to benefit SIPAR Cambodia \n\n\n\n✍️ Bonus! Join the Poetry Writing Workshop beforehand (2–5PM\, $10) to craft your own work and take the mic!
URL:https://creativegeneration.art/event/poetry-reading-rebirth/
LOCATION:Creative Generation theater (upstairs at Java Creative Cafe TTP)\, 53 Street 468\, Phnom Penh
CATEGORIES:Performance
ATTACH;FMTTYPE=image/jpeg:https://creativegeneration.art/wp-content/uploads/2025/04/photo_2025-04-21_11-00-29.jpg
END:VEVENT
BEGIN:VEVENT
DTSTART;TZID=UTC:20250427T180000
DTEND;TZID=UTC:20250427T200000
DTSTAMP:20260422T225713
CREATED:20250423T094947Z
LAST-MODIFIED:20250423T100104Z
UID:2347-1745776800-1745784000@creativegeneration.art
SUMMARY:CCDP Analog Photo Workshop Showcase
DESCRIPTION:Celebrate the results of the Photo Walk & B&W Film Workshop\, organized by Cambodian Centre for Documentary Photography. Participants explored Toul Tompoung area through analog photography — capturing and developing images by hand in the darkroom. Come meet the photographers and see the prints they made themselves during the workshop.
URL:https://creativegeneration.art/event/ccdp-analog-photo-workshop-showcase/
LOCATION:Creative Generation theater (upstairs at Java Creative Cafe TTP)\, 53 Street 468\, Phnom Penh
CATEGORIES:Arts,Exhibition,Workshop
ATTACH;FMTTYPE=image/jpeg:https://creativegeneration.art/wp-content/uploads/2025/04/photo_3_2025-04-21_11-41-47.jpg
END:VEVENT
BEGIN:VEVENT
DTSTART;TZID=UTC:20250531T170000
DTEND;TZID=UTC:20250531T193000
DTSTAMP:20260422T225713
CREATED:20250529T111255Z
LAST-MODIFIED:20250529T112232Z
UID:2403-1748710800-1748719800@creativegeneration.art
SUMMARY:Indigenous Youth Take the Stage: A Celebration of Indigenous Culture in Cambodia
DESCRIPTION:Join us for a one-of-a-kind event highlighting the rich cultural expressions of Cambodia’s Indigenous youth! This special evening features live music\, traditional dance\, storytelling\, and an exhibition — all led by Indigenous youth from across the country. \n\n\n\nOrganized in collaboration with the Cambodian Indigenous Youth Association\, the Cambodian Indigenous Women’s Association\, the Cambodian Indigenous Peoples Organization\, and Creative Generation\, the event aims to strengthen cultural understanding\, highlight the voices and creativity of Indigenous youth\, and foster meaningful connections between Indigenous and non-Indigenous communities. Through shared cultural experiences\, we hope to build greater awareness\, respect\, and solidarity.
URL:https://creativegeneration.art/event/indigenous-youth-take-the-stage-a-celebration-of-indigenous-culture-in-cambodia/
LOCATION:Creative Generation theater (upstairs at Java Creative Cafe TTP)\, 53 Street 468\, Phnom Penh
CATEGORIES:Exhibition,Performance
ATTACH;FMTTYPE=image/jpeg:https://creativegeneration.art/wp-content/uploads/2025/05/499543663_1130515925786604_6086883813961821547_n.jpg
END:VEVENT
BEGIN:VEVENT
DTSTART;TZID=UTC:20250601T140000
DTEND;TZID=UTC:20250601T160000
DTSTAMP:20260422T225713
CREATED:20250529T112048Z
LAST-MODIFIED:20250529T112051Z
UID:2406-1748786400-1748793600@creativegeneration.art
SUMMARY:Screening of No Other Land and Q&A
DESCRIPTION:Due to overwhelming demand\, Cambodia Palestine Solidarity community presents a re-screening of the Oscar-winning documentary No Other Land\, directed by Basel Adra\, Hamdan Ballal\, Yuval Abraham\, and Rachel Szor. The event will begin with a brief presentation providing context for the documentary and end with a Q&A session with members of the Cambodia Palestine Solidarity group. \n\n\n\nAbout the Film:Basel Adra\, a young Palestinian activist from Masafer Yatta\, has been fighting his community’s mass expulsion by the Israeli occupation since childhood. Basel documents the gradual erasure of Masafer Yatta\, as soldiers destroy the homes of families – the largest single act of forced transfer ever carried out in the occupied West Bank. He crosses paths with Yuval\, an Israeli journalist who joins his struggle\, and for over half a decade they fight against the expulsion while growing closer. Their complex bond is haunted by the extreme inequality between them: Basel\, living under a brutal military occupation\, and Yuval\, unrestricted and free. This film\, by a Palestinian-Israeli collective of four young activists\, was co-created during the darkest\, most terrifying times in the region\, as an act of creative resistance to Apartheid and a search for a path towards equality and justice.
URL:https://creativegeneration.art/event/screening-of-no-other-land-and-qa/
LOCATION:Creative Generation theater (upstairs at Java Creative Cafe TTP)\, 53 Street 468\, Phnom Penh
CATEGORIES:Film
ATTACH;FMTTYPE=image/jpeg:https://creativegeneration.art/wp-content/uploads/2025/05/1-June-2025.jpg
END:VEVENT
END:VCALENDAR