BEGIN:VCALENDAR
VERSION:2.0
PRODID:-//Creative Generation - ECPv6.15.7//NONSGML v1.0//EN
CALSCALE:GREGORIAN
METHOD:PUBLISH
X-ORIGINAL-URL:https://creativegeneration.art
X-WR-CALDESC:Events for Creative Generation
REFRESH-INTERVAL;VALUE=DURATION:PT1H
X-Robots-Tag:noindex
X-PUBLISHED-TTL:PT1H
BEGIN:VTIMEZONE
TZID:UTC
BEGIN:STANDARD
TZOFFSETFROM:+0000
TZOFFSETTO:+0000
TZNAME:UTC
DTSTART:20210101T000000
END:STANDARD
END:VTIMEZONE
BEGIN:VEVENT
DTSTART;TZID=UTC:20221210T170000
DTEND;TZID=UTC:20221210T200000
DTSTAMP:20260422T101021
CREATED:20230418T091618Z
LAST-MODIFIED:20230504T114517Z
UID:1649-1670691600-1670702400@creativegeneration.art
SUMMARY:Under the Canopy 1 - Launch Celebration
DESCRIPTION:5-8pm Saturday\n10 December 2022\nF3 (Friends Futures Factory) \nOpening night with welcome speeches\, food & beverage vendors and live acoustic music by Unity Band. \nUnder The Canopy is an exciting new project by Creative Generation that highlights sustainable design. A young architect\, NUON Songty\, under the mentorship of David COLE\, has been commissioned to design and build an architectural installation in the courtyard of F3 (Friends Futures Factory). He was asked to design the canopy using sustainable and natural materials. To fulfill this requirement Songty was inspired by Cambodia’s rich and ancient basketry. He chose the humble bamboo chicken coop and will put together almost 500 baskets to form a new and contemporary shape. The canopy will provide a temporary space in the courtyard inviting the public to enjoy events and community gatherings under its dappled shade and innovative design.
URL:https://creativegeneration.art/event/under-the-canopy-1-launch-celebration/
LOCATION:215 Street 13\, F3 (Friends Futures Factory)\, Phnom Penh\, Phnom Penh\, Cambodia
CATEGORIES:Celebration,Design
ATTACH;FMTTYPE=image/png:https://creativegeneration.art/wp-content/uploads/2022/11/Under-The-Canopy-event-banner-2.png
END:VEVENT
BEGIN:VEVENT
DTSTART;TZID=UTC:20221211T140000
DTEND;TZID=UTC:20221211T170000
DTSTAMP:20260422T101021
CREATED:20230418T090331Z
LAST-MODIFIED:20230504T114510Z
UID:1642-1670767200-1670778000@creativegeneration.art
SUMMARY:Seed Paper Workshop
DESCRIPTION:DOWNLOAD INSTRUCTIONS \nF3 Friends Futures Factory (gallery)\nOpen session\nFREE \nWalk-ins welcome\, no bookings required\nDates:\n2pm-5pm Sunday\, 11 December\n2pm-5pm Saturday\, 17 December\n2pm-5pm Saturday\, 31 December \n  \nFor Creative Generation’s new project “Under the Canopy” we are working with themes of sustainability. So\, we are offering a month of free papermaking workshops\, using recycled paper. But not just ordinary paper – we will make seed paper that can later be planted to grow flowers\, fruits or vegetables!
URL:https://creativegeneration.art/event/seed-paper-workshop/
LOCATION:215 Street 13\, F3 (Friends Futures Factory)\, Phnom Penh\, Phnom Penh\, Cambodia
CATEGORIES:Design,Workshop
ATTACH;FMTTYPE=image/png:https://creativegeneration.art/wp-content/uploads/2022/11/workshop-event-Facebook-Cover.png
END:VEVENT
BEGIN:VEVENT
DTSTART;TZID=UTC:20221211T170000
DTEND;TZID=UTC:20221211T180000
DTSTAMP:20260422T101021
CREATED:20230418T084125Z
LAST-MODIFIED:20230504T114431Z
UID:1630-1670778000-1670781600@creativegeneration.art
SUMMARY:Designer Talk: Nuon Songty
DESCRIPTION:5pm Sunday 11 December\, 2022\nAt F3 Friends Futures Factory \n  \nMeet Nuon Songty\, the designer of the first canopy at Friends Futures Factory for the Creative Generation Under the Canopy project! \nHe was asked to design the canopy using sustainable and natural materials. To fulfill this requirement Songty was inspired by Cambodia’s rich and ancient basketry. He chose the humble bamboo chicken coop and will put together almost 500 baskets to form a new and contemporary shape. The canopy will provide a temporary space in the courtyard inviting the public to enjoy events and community gatherings under its dappled shade and innovative design. \nJoin him for the designer talk and learn more about what inspired him and what were some of his challenges and rewards for this project!
URL:https://creativegeneration.art/event/designer-talk-nuon-songty/
LOCATION:215 Street 13\, F3 (Friends Futures Factory)\, Phnom Penh\, Phnom Penh\, Cambodia
CATEGORIES:Design,Talks
ATTACH;FMTTYPE=image/jpeg:https://creativegeneration.art/wp-content/uploads/2023/03/DSC05804.jpg
END:VEVENT
BEGIN:VEVENT
DTSTART;TZID=UTC:20221217T140000
DTEND;TZID=UTC:20221217T170000
DTSTAMP:20260422T101021
CREATED:20230418T090725Z
LAST-MODIFIED:20230504T114426Z
UID:1645-1671285600-1671296400@creativegeneration.art
SUMMARY:Seed Paper Workshop
DESCRIPTION:DOWNLOAD INSTRUCTIONS \nF3 Friends Futures Factory (gallery)\nOpen session\nFREE \nWalk-ins welcome\, no bookings required\nDates:\n2pm-5pm Sunday\, 11 December\n2pm-5pm Saturday\, 17 December\n2pm-5pm Saturday\, 31 December \n  \nFor Creative Generation’s new project “Under the Canopy” we are working with themes of sustainability. So\, we are offering a month of free papermaking workshops\, using recycled paper. But not just ordinary paper – we will make seed paper that can later be planted to grow flowers\, fruits or vegetables!
URL:https://creativegeneration.art/event/seed-paper-workshop-2/
LOCATION:215 Street 13\, F3 (Friends Futures Factory)\, Phnom Penh\, Phnom Penh\, Cambodia
CATEGORIES:Design,Workshop
ATTACH;FMTTYPE=image/png:https://creativegeneration.art/wp-content/uploads/2022/11/workshop-event-Facebook-Cover.png
END:VEVENT
BEGIN:VEVENT
DTSTART;TZID=UTC:20221231T140000
DTEND;TZID=UTC:20221231T170000
DTSTAMP:20260422T101021
CREATED:20230418T090904Z
LAST-MODIFIED:20230504T114418Z
UID:1647-1672495200-1672506000@creativegeneration.art
SUMMARY:Seed Paper Workshop
DESCRIPTION:DOWNLOAD INSTRUCTIONS \nF3 Friends Futures Factory (gallery)\nOpen session\nFREE \nWalk-ins welcome\, no bookings required\nDates:\n2pm-5pm Sunday\, 11 December\n2pm-5pm Saturday\, 17 December\n2pm-5pm Saturday\, 31 December \n  \nFor Creative Generation’s new project “Under the Canopy” we are working with themes of sustainability. So\, we are offering a month of free papermaking workshops\, using recycled paper. But not just ordinary paper – we will make seed paper that can later be planted to grow flowers\, fruits or vegetables!
URL:https://creativegeneration.art/event/seed-paper-workshop-3/
LOCATION:215 Street 13\, F3 (Friends Futures Factory)\, Phnom Penh\, Phnom Penh\, Cambodia
CATEGORIES:Design,Workshop
ATTACH;FMTTYPE=image/png:https://creativegeneration.art/wp-content/uploads/2022/11/workshop-event-Facebook-Cover.png
END:VEVENT
END:VCALENDAR