BEGIN:VCALENDAR
VERSION:2.0
PRODID:-//Creative Generation - ECPv6.15.7//NONSGML v1.0//EN
CALSCALE:GREGORIAN
METHOD:PUBLISH
X-ORIGINAL-URL:https://creativegeneration.art
X-WR-CALDESC:Events for Creative Generation
REFRESH-INTERVAL;VALUE=DURATION:PT1H
X-Robots-Tag:noindex
X-PUBLISHED-TTL:PT1H
BEGIN:VTIMEZONE
TZID:UTC
BEGIN:STANDARD
TZOFFSETFROM:+0000
TZOFFSETTO:+0000
TZNAME:UTC
DTSTART:20210101T000000
END:STANDARD
END:VTIMEZONE
BEGIN:VEVENT
DTSTART;TZID=UTC:20220204T183000
DTEND;TZID=UTC:20220204T210000
DTSTAMP:20260422T160112
CREATED:20230418T103253Z
LAST-MODIFIED:20230504T114613Z
UID:1674-1643999400-1644008400@creativegeneration.art
SUMMARY:Worlds Unknown Art Festival\, 4-13 February 2022
DESCRIPTION:4-13 February 2022\nF3 (Friends Futures Factory) \nWorlds Unknown brings together the artworks of five young artists\, each with a unique vision. KONG Siden\, MECH Choulay\, Roun RY\, SONG Seakleng and VONG Chandarey were awarded the Creative Generation 3 Prize in 2020. Each artist will present a site-specific installation across the spaces of Friends Futures Factory (F3) that invites the public to explore worlds that are often invisible and unknown. The plight of a community that is obscured from the public eye\, the life of elephants as both god and vulnerable creature\, an inner emotional life that generates fantastical worlds\, meditation through light and sound and an existential exploration of spirituality and everyday situations. \nFOLLOW ON FACEBOOK for regular updates \nEXHIBITIONS\nExhibitions on view 2pm-9pm \n• RESISTANCE: TO LIVE\, RY Roun\n• AMBIVALENCE: MACROCOSM\, SONG Seakleng\n• UNTOLD STORY\, MECH Choulay\n• MINDFULNESS\, KONG Siden\n• REFLECTION\, VONG Chandarey \nPROGRAM\nAll events are free and open to the public and presented in both Khmer and English\, no registration is required. Standard covid19 protocols will be implemented: vaccination card\, limited number of people in closed spaces\, temperature check and hand sanitization required for entry and masks must be worn at all times. \nOpening Night with Blessing Ceremony by Natyrasa + Prumsodun Ok\n6:30pm – 9:00pm Friday\, 4 February 2022\nStarting Point: Courtyard \nArtist Talks + Exhibition Tour\n5:00pm – 6:30 Saturday\, 5 February 2022\nStarting Point: Courtyard \nIntroduction to “Open-Eye Meditation\,” Workshop by Chhun Chenda Sophea\n3:00pm – 5:00pm Sunday\, 6 February 2022\nLocation: Terrace \nPoetry Readings + Open Mic\, Readings by Yeng Chheangly and Jane\, Hosted by Say Tola\n6:30pm – 8:00pm Monday\, 7 February 2022\nLocation: Courtyard \n“Entering the Buddhist Imagination\,” In Conversation with Yean Reaksmey moderated by Kong Siden\n6:30pm – 8:00pm Tuesday\, 8 February 2022\nLocation: Terrace \n“Chromesthesia\,” Audio-visual performance by Warren Daly\n6:30pm – 7:30pm Wednesday\, 9 February 2022\nLocation: Courtyard \n“Archiving Our community for Tomorrow\,” In Conversation with Chea Sopheap moderated by Mech Choulay\n6:30pm – 8:00pm Thursday\, 10 February 2022\nLocation: Terrace \nDJ Rai Zo + Hip Hop Dance Performance by Xang Heang + Projection Art by Song Seakleng\n6:30pm – 9pm Friday\, 11 February 2022\nLocation: Courtyard \nIntroduction to Photography Basics + Guided photo walk with Ry Roun\n4pm – 6pm Saturday\, 12 February 2022\nLocation: Courtyard + Neighborhood \nFeast with Friends: A Communal Dinner\nBring friends + food + drinks to share\n6pm – 9pm Sunday\, 13 February 2022\nLocation: Courtyard
URL:https://creativegeneration.art/event/worlds-unknown-art-festival-4-13-february-2022/
LOCATION:215 Street 13\, F3 (Friends Futures Factory)\, Phnom Penh\, Phnom Penh\, Cambodia
CATEGORIES:Arts,Celebration,Exhibition,Talks
ATTACH;FMTTYPE=image/png:https://creativegeneration.art/wp-content/uploads/2022/01/Worlds-unknown-banner-3.png
END:VEVENT
END:VCALENDAR