BEGIN:VCALENDAR
VERSION:2.0
PRODID:-//Creative Generation - ECPv6.15.7//NONSGML v1.0//EN
CALSCALE:GREGORIAN
METHOD:PUBLISH
X-ORIGINAL-URL:https://creativegeneration.art
X-WR-CALDESC:Events for Creative Generation
REFRESH-INTERVAL;VALUE=DURATION:PT1H
X-Robots-Tag:noindex
X-PUBLISHED-TTL:PT1H
BEGIN:VTIMEZONE
TZID:UTC
BEGIN:STANDARD
TZOFFSETFROM:+0000
TZOFFSETTO:+0000
TZNAME:UTC
DTSTART:20230101T000000
END:STANDARD
END:VTIMEZONE
BEGIN:VEVENT
DTSTART;TZID=UTC:20240120T190000
DTEND;TZID=UTC:20240120T210000
DTSTAMP:20260422T213317
CREATED:20240107T065151Z
LAST-MODIFIED:20240116T033106Z
UID:2016-1705777200-1705784400@creativegeneration.art
SUMMARY:Concert Under the Canopy: MeDha x Smomid
DESCRIPTION:Concert Under the Canopy: MeDha x Smomid \n\n\n\n7pm – 9pm Saturday\, 20 January 2024 \n\n\n\nAt Friends Futures Factory \n\n\n\nEntry fee by donation – pay what you feel \n\n\n\nFor Under the Canopy\, we have invited artists to activate the space in creative ways. Our first event is a concert that features MeDha\, Cambodia’s first female drum group\, and Nick Demopoulos\, an experimental electronic musician\, who will collaborate for a one-of-a-kind live music event. \n\n\n\nThis concert will bring together MeDha’s empowering drum music\, performed on traditional instruments\, combined with an improvised performance and multi-sensory experience created by Nick Demopoulos as Smomid. \n\n\n\nExpect a fusion of rhythms\, melodies\, cultures\, and technologies\, as the powerful drumbeats meet electronic music and projections\, against the backdrop of the visually compelling canopy. Join us for a unique experience that celebrates cross-cultural collaboration! \n\n\n\nAbout the artists: \n\n\n\nMeDha is the first female drum group in Cambodia\, established in 2017. We use traditional Khmer instruments to create new music\, along with a story that reflects the realities of Cambodian society. Through our music we demand change and express the potential and ability of women in society and the arts. We want to encourage other women to stand up and do what they love and be able to achieve their dreams. MeDha is sponsored and created by Cambodia Living Arts (CLA). We have performed and participated in many art festivals in Cambodia. \n\n\n\nSmomid is a project by Nick Demopoulos\, who is a performer\, musician and instrument builder. As Smomid\, he uses instruments and software he created to enable digitally interactive performance and multi-sensory experiences. Smomid instruments create sound\, video projections and emit light. As a guitarist he worked with NEA jazz master Chico Hamilton\, with whom he recorded on four albums. He worked as a cultural diplomat for the U.S. State Department\, performing in Bahrain\, Yemen\, Oman\, U.A.E and Kuwait. Smomid has performed at Lincoln Center\, and featured on Discovery Channel\, Guitar World\, Create Digital Music and BOMB magazine. \n\n\n\n*** \n\n\n\nUnder the Canopy is a Creative Generation project at F3 (Friends Futures Factory). It is an architectural intervention that emphasizes principles of sustainability and contemporary design-thinking. It is made possible thanks to the support of our partner organization Friends-International. \n\n\n\nSpecial thanks for the generous support provided by Debra Fram + Eric Schwartz and the U.S. Embassy in Cambodia.
URL:https://creativegeneration.art/event/concert-under-the-canopy-medha-x-smomid/
LOCATION:215 Street 13\, F3 (Friends Futures Factory)\, Phnom Penh\, Phnom Penh\, Cambodia
CATEGORIES:Design
ATTACH;FMTTYPE=image/png:https://creativegeneration.art/wp-content/uploads/2024/01/medha-x-nick-event-cover-1.png
END:VEVENT
END:VCALENDAR