BEGIN:VCALENDAR
VERSION:2.0
PRODID:-//Creative Generation - ECPv6.15.7//NONSGML v1.0//EN
CALSCALE:GREGORIAN
METHOD:PUBLISH
X-WR-CALNAME:Creative Generation
X-ORIGINAL-URL:https://creativegeneration.art
X-WR-CALDESC:Events for Creative Generation
REFRESH-INTERVAL;VALUE=DURATION:PT1H
X-Robots-Tag:noindex
X-PUBLISHED-TTL:PT1H
BEGIN:VTIMEZONE
TZID:UTC
BEGIN:STANDARD
TZOFFSETFROM:+0000
TZOFFSETTO:+0000
TZNAME:UTC
DTSTART:20230101T000000
END:STANDARD
END:VTIMEZONE
BEGIN:VEVENT
DTSTART;TZID=UTC:20240113T180000
DTEND;TZID=UTC:20240113T200000
DTSTAMP:20260422T213134
CREATED:20240107T065714Z
LAST-MODIFIED:20240107T065716Z
UID:2019-1705168800-1705176000@creativegeneration.art
SUMMARY:Designer Talk: Sou Oudom and Try Sokha Raksmey
DESCRIPTION:Designer Talk: Sou Oudom and Try Sokha Raksmey \n\n\n\n6pm-8pm Saturday\, 13 January 2024 \n\n\n\nAt Friends Futures Factory \n\n\n\nFree entry\, no registration required \n\n\n\nKhmer/English \n\n\n\n\n“We feel so delighted that we have accomplished something meaningful for the community; as you can see\, the pavilion structure is such a nice gesture of language between architecture and humankind where that helps foster the sense of community in its own form.” – Sou Oudom\, launch celebration \n\n\n\n\nMeet Sou Oudom and Try Sokha Raksmey the designers of Under the Canopy 2. For their Designer Talk they will discuss their design process\, what inspired them and how they built the canopy. The audience will be invited to ask questions during the q&a after the presentation. \n\n\n\n*** \n\n\n\nUnder the Canopy is a Creative Generation project at F3 (Friends Futures Factory). It is an architectural intervention that emphasizes principles of sustainability and contemporary design-thinking. It is made possible thanks to the support of our partner organization Friends-International. \n\n\n\nSpecial thanks for the generous support provided by Debra Fram + Eric Schwartz and the U.S. Embassy in Cambodia.
URL:https://creativegeneration.art/event/designer-talk-sou-oudom-and-try-sokha-raksmey/
LOCATION:215 Street 13\, F3 (Friends Futures Factory)\, Phnom Penh\, Phnom Penh\, Cambodia
CATEGORIES:Design,Talks
ATTACH;FMTTYPE=image/jpeg:https://creativegeneration.art/wp-content/uploads/2024/01/DSC05076.jpg
END:VEVENT
END:VCALENDAR